Workbook

Sheet 様式１
AE1: 様式１
B2: 神戸市文化スポーツ局長 あて | Z2: № | AI2: ＜申請書の作成方法＞
B4: ＊太枠内のみご記入ください | S4: 申請年月日： | U4: 令和 | X4: 年 | AA4: 月 | AD4: 日 | AI4: 【記入例】を参考に、下記のとおり、太枠内に必要事項を入力してください。
A5: 申 請 者 | C5: 主催団体名 | V5: 過去の申請状況 | AL5: 直接入力してください。
AB6: 継続申請の場合：申請年度 | AE6: 年 | AL6: カーソルを合わせ▼印をクリックし、選択してください。
AB7: 承諾№
C8: 団体所在地 | I8: 〒 | L8: － | S8: 連絡先 | V8: ＊団体所在地と異なる場合のみご記入ください。 | AI8: ★様式１を入力すると、様式 ２、３、４、報告書 に複写されます。
T9: 〒 | W9: － | AI9: ただし、
C10: TEL | G10: （ | J10: ） | M10: － | AJ10: ・過去の申請状況 | AM10: は複写されません。教育委員会用の様式３には別途、必ず入力してください。
C11: FAX | G11: （ | J11: ） | M11: － | T11: TEL | V11: （ | Y11: ） | AB11: － | AJ11: ・賞
C12: E-mail | T12: FAX | V12: （ | Y12: ） | AB12: －
C13: 代表者名 | T13: 担当者名 | AI13: 全て入力が終わったら
AJ14: ●「神戸市」と「神戸市教育委員会」の両方を申請する場合は、様式 １～４のすべてを提出してください。
A16: 芸術文化行事後援願 | AJ16: ●「神戸市」のみ申請する場合は、様式 １～２のみ提出してください。
A18: このたび、下記行事を開催するにあたり、神戸市の後援を得たく、関係書類及び返信用封筒を添えてここに申請いたします。
A19: なお、承認を得た際は、行事開催について一切の責任を負い、政治活動・宗教活動その他本件開催目的の趣旨に反する活動及び行事は一切行わないことを誓約します。
A20: 上記誓約に違反した場合には、後援取消しの措置を受けても異存はありません。
B22: 行事名
B23: 主催団体名
B24: 団体概要 | G24: 分 野 | P24: （ | AD24: ）
G25: 創 立 | O25: 年 | R25: 月 | U25: 日 | W25: 構成人数 | AD25: 人
G26: ■団体の活動内容・活動歴など
B28: 行事内容 | G28: ■今回の行事の開催趣旨・期待される効果など
B30: その他の
B31: 後援（予定）
B32: 日時 | G32: 令和 | J32: 年 | L32: 月 | N32: 日 | O32: （ | R32: ） | S32: ～ | T32: 令和 | W32: 年 | Y32: 月 | AA32: 日 | AB32: （ | AE32: ）
L33: 時 | O33: 分 | S33: ～ | Y33: 時 | AB33: 分
B34: 場所
B35: 入場料等 | O35: 有料の | S35: 一般 | AA35: 円
O36: 場 合 | S36: （ | T36: 他 | AA36: 円 | AB36: ）
B37: 賞 | G37: 賞 状 | N37: （ | O37: 神戸市長賞 | V37: 枚 | W37: ）
G38: 楯 | N38: （ | O38: 神戸市長賞 | V38: 枚 | W38: ）
B39: その他
B40: ＊ 神戸市教育長賞の申請については、様式３に別途記入してください。（賞状・楯の有無も別途記入）
Q42: 局長 | T42: 副局長 | W42: 課長 | Z42: 係長 | AC42: 係

Sheet 様式２
AE1: 様式２
Z2: 神文文交後第
V4: 令和 | Y4: 年 | AB4: 月 | AE4: 日
B6: =様式１!D6 -> 0 | T6: 様
P8: 神戸市文化スポーツ局長
A10: 芸術文化行事にかかる神戸市後援名義の使用について（通知）
A12: さきに、申請のあった下記行事について
C13: １．後援名義使用は承諾いたしません。
C14: ２．後援名義使用を次のとおり承諾いたします。
B16: 名 義 | I16: 神 戸 市
B17: 賞 状 | G17: 有 | N17: 神戸市長賞 | U17: 枚 | AA17: 無
B18: 楯 | G18: 有 | N18: 神戸市長賞 | U18: 枚 | AA18: 無
B19: ただし、政治活動・宗教活動その他本件後援の趣旨に反する活動及び行事を行った場合には、後援名義の使用の承諾を取り消します。
A21: 記
B22: 行事名 | G22: =様式１!G22 -> 0
B23: 主催団体名 | G23: =様式１!G23 -> 0
B24: 団体概要 | G24: 分 野 | K24: =様式１!K24 -> 0 | P24: （ | Q24: =様式１!Q24 -> 0 | AD24: ）
G25: 創 立 | K25: =様式１!K25 -> 0 | M25: =様式１!M25 -> 0 | O25: 年 | P25: =様式１!P25 -> 0 | R25: 月 | S25: =様式１!S25 -> 0 | U25: 日 | W25: 構成人数 | AA25: =様式１!AA25 -> 0 | AD25: 人
G26: ■団体の活動内容・活動歴など
G27: =様式１!G27 -> 0
B28: 行事内容 | G28: ■今回の行事の開催趣旨・期待される効果など
G29: =様式１!G29 -> 0
B30: その他の | G30: =様式１!G30 -> 0
B31: 後援（予定）
B32: 日時 | G32: 令和 | I32: =様式１!I32 -> 0 | J32: 年 | K32: =様式１!K32 -> 0 | L32: 月 | M32: =様式１!M32 -> 0 | N32: 日 | O32: （ | P32: =様式１!P32 -> 0 | R32: ） | S32: ～ | T32: 令和 | V32: =様式１!V32 -> 0 | W32: 年 | X32: =様式１!X32 -> 0 | Y32: 月 | Z32: =様式１!Z32 -> 0 | AA32: 日 | AB32: （ | AC32: =様式１!AC32 -> 0 | AE32: ）
H33: =様式１!H33 -> 0 | J33: =様式１!J33 -> 0 | L33: 時 | M33: =様式１!M33 -> 0 | O33: 分 | S33: ～ | U33: =様式１!U33 -> 0 | W33: =様式１!W33 -> 0 | Y33: 時 | Z33: =様式１!Z33 -> 0 | AB33: 分
B34: 場所 | G34: =様式１!G34 -> 0
B35: 入場料等 | H35: =様式１!H35 -> 0 | O35: 有料の | S35: 一般 | U35: =様式１!U35 -> 0 | X35: =様式１!X35 -> 0 | AA35: 円
O36: 場 合 | S36: （ | T36: 他 | U36: =様式１!U36 -> 0 | X36: =様式１!X36 -> 0 | AA36: 円 | AB36: ）
B37: 賞 | G37: 賞 状 | K37: =様式１!K37 -> 0 | N37: （ | O37: 神戸市長賞 | S37: =様式１!S37 -> 0 | V37: 枚 | W37: ）
G38: 楯 | K38: =様式１!K38 -> 0 | N38: （ | O38: 神戸市長賞 | S38: =様式１!S38 -> 0 | V38: 枚 | W38: ）
B39: その他 | G39: =様式１!G39 -> 0
B42: 【後援名義使用にあたって】
B43: 後援名義のあることを理由に、勧誘してはいけません。
B44: 後援名義の使用承諾は、チラシ・パンフレット類の配布についての格別の便宜・配慮を意味しません。

Sheet 様式３
AE1: 様式３
B2: 神戸市教育長 あて | Z2: №
B4: ＊太枠内のみご記入ください | S4: 申請年月日： | U4: 令和 | V4: =様式１!V4 -> 0 | X4: 年 | Y4: =様式１!Y4 -> 0 | AA4: 月 | AB4: =様式１!AB4 -> 0 | AD4: 日
A5: 申 請 者 | C5: 主催団体名 | V5: 過去の申請状況
D6: =様式１!D6 -> 0 | AB6: 継続申請の場合：申請年度 | AE6: 年
AB7: 承諾№
C8: 団体所在地 | I8: 〒 | J8: =様式１!J8 -> 0 | L8: － | M8: =様式１!M8 -> 0 | S8: 連絡先 | V8: ＊団体所在地と異なる場合のみご記入ください。
C9: =様式１!C9 -> 0 | T9: 〒 | U9: =様式１!U9 -> 0 | W9: － | X9: =様式１!X9 -> 0
C10: TEL | G10: （ | H10: =様式１!H10 -> 0 | J10: ） | K10: =様式１!K10 -> 0 | M10: － | N10: =様式１!N10 -> 0 | T10: =様式１!T10 -> 0
C11: FAX | G11: （ | H11: =様式１!H11 -> 0 | J11: ） | K11: =様式１!K11 -> 0 | M11: － | N11: =様式１!N11 -> 0 | T11: TEL | V11: （ | W11: =様式１!W11 -> 0 | Y11: ） | Z11: =様式１!Z11 -> 0 | AB11: － | AC11: =様式１!AC11 -> 0
C12: E-mail | H12: =様式１!H12 -> 0 | T12: FAX | V12: （ | W12: =様式１!W12 -> 0 | Y12: ） | Z12: =様式１!Z12 -> 0 | AB12: － | AC12: =様式１!AC12 -> 0
C13: 代表者名 | H13: =様式１!H13 -> 0 | T13: 担当者名 | W13: =様式１!W13 -> 0
A16: 芸術文化行事後援願
A18: このたび、下記行事を開催するにあたり、神戸市教育委員会の後援を得たく、関係書類及び返信用封筒を添えてここに申請いたします。
A19: なお、承認を得た際は、行事開催について一切の責任を負い、政治活動・宗教活動その他本件開催目的の趣旨に反する活動及び行事は一切行わないことを誓約します。
A20: 上記誓約に違反した場合には、後援取消しの措置を受けても異存はありません。
B22: 行事名 | G22: =様式１!G22 -> 0
B23: 主催団体名 | G23: =様式１!G23 -> 0
B24: 団体概要 | G24: 分 野 | K24: =様式１!K24 -> 0 | P24: （ | Q24: =様式１!Q24 -> 0 | AD24: ）
G25: 創 立 | K25: =様式１!K25 -> 0 | M25: =様式１!M25 -> 0 | O25: 年 | P25: =様式１!P25 -> 0 | R25: 月 | S25: =様式１!S25 -> 0 | U25: 日 | W25: 構成人数 | AA25: =様式１!AA25 -> 0 | AD25: 人
G26: ■団体の活動内容・活動歴など
G27: =様式１!G27 -> 0
B28: 行事内容 | G28: ■今回の行事の開催趣旨・期待される効果など
G29: =様式１!G29 -> 0
B30: その他の | G30: =様式１!G30 -> 0
B31: 後援（予定）
B32: 日時 | G32: 令和 | I32: =様式１!I32 -> 0 | J32: 年 | K32: =様式１!K32 -> 0 | L32: 月 | M32: =様式１!M32 -> 0 | N32: 日 | O32: （ | P32: =様式１!P32 -> 0 | R32: ） | S32: ～ | T32: 令和 | V32: =様式１!V32 -> 0 | W32: 年 | X32: =様式１!X32 -> 0 | Y32: 月 | Z32: =様式１!Z32 -> 0 | AA32: 日 | AB32: （ | AC32: =様式１!AC32 -> 0 | AE32: ）
H33: =様式１!H33 -> 0 | J33: =様式１!J33 -> 0 | L33: 時 | M33: =様式１!M33 -> 0 | O33: 分 | S33: ～ | U33: =様式１!U33 -> 0 | W33: =様式１!W33 -> 0 | Y33: 時 | Z33: =様式１!Z33 -> 0 | AB33: 分
B34: 場所 | G34: =様式１!G34 -> 0
B35: 入場料等 | H35: =様式１!H35 -> 0 | O35: 有料の | S35: 一般 | U35: =様式１!U35 -> 0 | X35: =様式１!X35 -> 0 | AA35: 円
O36: 場 合 | S36: （ | T36: 他 | U36: =様式１!U36 -> 0 | X36: =様式１!X36 -> 0 | AA36: 円 | AB36: ）
B37: 賞 | G37: 賞 状 | N37: （ | O37: 神戸市教育長賞 | X37: 枚 | Y37: ）
G38: 楯 | N38: （ | O38: 神戸市教育長賞 | X38: 枚 | Y38: ）
B39: その他 | G39: =様式１!G39 -> 0
Q42: 事務局長 | T42: 副局長 | W42: 課長 | Z42: 係長 | AC42: 係

Sheet 様式４
AE1: 様式４
Z2: 神教委総第
V4: 令和 | Y4: 年 | AB4: 月 | AE4: 日
B6: =様式１!D6 -> 0 | T6: 様
P8: 神戸市教育長
A10: 芸術文化行事にかかる後援名義の使用について（通知）
A12: さきに、申請のあった下記行事について
C13: １．後援名義使用は承諾いたしません。
C14: ２．後援名義使用を次のとおり承諾いたします。
B16: 名 義 | I16: 神 戸 市 教 育 委 員 会
B17: 賞 状 | G17: 有 | N17: 神戸市教育長賞 | W17: 枚 | AA17: 無
B18: 楯 | G18: 有 | N18: 神戸市教育長賞 | W18: 枚 | AA18: 無
B19: ただし、政治活動・宗教活動その他本件後援の趣旨に反する活動及び行事を行った場合には、後援名義の使用の承諾を取り消します。
A21: 記
B22: 行事名 | G22: =様式３!G22 -> 0
B23: 主催団体名 | G23: =様式３!G23 -> 0
B24: 団体概要 | G24: 分 野 | K24: =様式３!K24 -> 0 | P24: （ | Q24: =様式３!Q24 -> 0 | AD24: ）
G25: 創 立 | K25: =様式３!K25 -> 0 | M25: =様式３!M25 -> 0 | O25: 年 | P25: =様式３!P25 -> 0 | R25: 月 | S25: =様式３!S25 -> 0 | U25: 日 | W25: 構成人数 | AA25: =様式３!AA25 -> 0 | AD25: 人
G26: ■団体の活動内容・活動歴など
G27: =様式３!G27 -> 0
B28: 行事内容 | G28: ■今回の行事の開催趣旨・期待される効果など
G29: =様式３!G29 -> 0
B30: その他の | G30: =様式３!G30 -> 0
B31: 後援（予定）
B32: 日時 | G32: 令和 | I32: =様式３!I32 -> 0 | J32: 年 | K32: =様式３!K32 -> 0 | L32: 月 | M32: =様式３!M32 -> 0 | N32: 日 | O32: （ | P32: =様式３!P32 -> 0 | R32: ） | S32: ～ | T32: 令和 | V32: =様式３!V32 -> 0 | W32: 年 | X32: =様式３!X32 -> 0 | Y32: 月 | Z32: =様式３!Z32 -> 0 | AA32: 日 | AB32: （ | AC32: =様式３!AC32 -> 0 | AE32: ）
H33: =様式３!H33 -> 0 | J33: =様式３!J33 -> 0 | L33: 時 | M33: =様式３!M33 -> 0 | O33: 分 | S33: ～ | U33: =様式３!U33 -> 0 | W33: =様式３!W33 -> 0 | Y33: 時 | Z33: =様式３!Z33 -> 0 | AB33: 分
B34: 場所 | G34: =様式３!G34 -> 0
B35: 入場料等 | H35: =様式３!H35 -> 0 | O35: 有料の | S35: 一般 | U35: =様式３!U35 -> 0 | X35: =様式３!X35 -> 0 | AA35: 円
O36: 場 合 | S36: （ | T36: 他 | U36: =様式３!U36 -> 0 | X36: =様式３!X36 -> 0 | AA36: 円 | AB36: ）
B37: 賞 | G37: 賞 状 | K37: =様式３!K37 -> 0 | N37: （ | O37: 神戸市教育長賞 | U37: =様式３!U37 -> 0 | X37: 枚 | Y37: ）
G38: 楯 | K38: =様式３!K38 -> 0 | N38: （ | O38: 神戸市教育長賞 | U38: =様式３!U38 -> 0 | X38: 枚 | Y38: ）
B39: その他 | G39: =様式３!G39 -> 0
B42: 【後援名義使用にあたって】
B43: 後援名義のあることを理由に、勧誘してはいけません。
B44: 後援名義の使用承諾は、チラシ・パンフレット類の配布についての格別の便宜・配慮を意味しません。

Sheet 報告書
Z2: №
V4: 令和 | Y4: 年 | AB4: 月 | AE4: 日
B6: 神戸市文化スポーツ局長
M7: あて
B8: 神戸市教育長
O11: 住 所 | S11: 〒 | T11: =様式１!J8 -> 0 | V11: － | W11: =様式１!M8 -> 0
S12: =様式１!C9 -> 0
O13: T E L | S13: （ | T13: =様式１!H10 -> 0 | V13: ） | W13: =様式１!K10 -> 0 | Y13: － | Z13: =様式１!N10 -> 0
O14: 主催者名 | S14: =様式１!D6 -> 0
O15: （団体名）
O16: 代表者名 | S16: =様式１!H13 -> 0
A18: 芸術・文化行事報告書
A20: 先般、後援名義使用を承諾いただきました下記行事について、滞りなく終了いたしましたので、ここに関係書類を添えて報告いたします。
A22: 記
B23: 行事名 | G23: =様式１!G22 -> 0
B24: 日時 | G24: 令和 | I24: =様式１!I32 -> 0 | J24: 年 | K24: =様式１!K32 -> 0 | L24: 月 | M24: =様式１!M32 -> 0 | N24: 日 | O24: （ | P24: =様式１!P32 -> 0 | R24: ） | S24: ～ | T24: 令和 | V24: =様式１!V32 -> 0 | W24: 年 | X24: =様式１!X32 -> 0 | Y24: 月 | Z24: =様式１!Z32 -> 0 | AA24: 日 | AB24: （ | AC24: =様式１!AC32 -> 0 | AE24: ）
H25: =様式１!H33 -> 0 | J25: =様式１!J33 -> 0 | L25: 時 | M25: =様式１!M33 -> 0 | O25: 分 | S25: ～ | U25: =様式１!U33 -> 0 | W25: =様式１!W33 -> 0 | Y25: 時 | Z25: =様式１!Z33 -> 0 | AB25: 分
B26: 場所 | G26: =様式１!G34 -> 0
B27: 総入場者数 | M27: 人
B28: 提出書類 | G28: □ | I28: ① | K28: チラシ・ハガキ・プログラム等
G29: □ | I29: ② | K29: 各賞受賞者一覧（表彰状・楯申請団体のみ）
G30: □ | I30: ③ | K30: その他 | N30: （ | AC30: ）
B32: ＊ | C32: 行事終了後は、本書及び上記関係書類を必ず提出してください。
C33: 提出なき場合は、貴団体が行う次回からの行事について、後援名義の使用承諾はいたしませんので、あらかじめご了承ください。

Sheet 【記入例】
AE1: 様式１
B2: 神戸市文化スポーツ局長 あて | Z2: №
B4: ＊太枠内のみご記入ください | S4: 申請年月日： | U4: 令和 | V4: 2 | X4: 年 | Y4: 10 | AA4: 月 | AB4: 1 | AD4: 日
A5: 申 請 者 | C5: 主催団体名 | V5: 過去の申請状況 | AA5: 継続
D6: ○○吹奏楽団 | AB6: 継続申請の場合：申請年度 | AC6: 31 | AE6: 年
AB7: 承諾№ | AC7: 200
C8: 団体所在地 | I8: 〒 | J8: ０００ | L8: － | M8: ００００ | S8: 連絡先 | V8: ＊団体所在地と異なる場合のみご記入ください。
C9: 神戸市○○区○○町１－２－３ | T9: 〒 | W9: －
C10: TEL | G10: （ | H10: ０７８ | J10: ） | K10: １２３ | M10: － | N10: ４５６７
C11: FAX | G11: （ | H11: ０７８ | J11: ） | K11: １２３ | M11: － | N11: ４５６８ | T11: TEL | V11: （ | Y11: ） | AB11: －
C12: E-mail | T12: FAX | V12: （ | Y12: ） | AB12: －
C13: 代表者名 | H13: ○○ ○○ | T13: 担当者名 | W13: △△ △△
A16: 芸術文化行事後援願
A18: このたび、下記行事を開催するにあたり、神戸市の後援を得たく、関係書類及び返信用封筒を添えてここに申請いたします。
A19: なお、承認を得た際は、行事開催について一切の責任を負い、政治活動・宗教活動その他本件開催目的の趣旨に反する活動及び行事は一切行わないことを誓約します。
A20: 上記誓約に違反した場合には、後援取消しの措置を受けても異存はありません。
B22: 行事名 | G22: 第○回 ○○吹奏楽団 定期演奏会
B23: 主催団体名 | G23: ○○吹奏楽団
B24: 団体概要 | G24: 分 野 | K24: 音楽 | P24: （ | AD24: ）
G25: 創 立 | K25: 平成 | M25: 5 | O25: 年 | P25: 4 | R25: 月 | S25: 1 | U25: 日 | W25: 構成人数 | AA25: 50 | AD25: 人
G26: ■団体の活動内容・活動歴など
G27: 神戸市を拠点に幅広い年齢層で構成されるアマチュア吹奏楽団。年に１度、定期演奏会を開催するほか、地域のイベントや施設にも招かれ、積極的に出演している。
B28: 行事内容 | G28: ■今回の行事の開催趣旨・期待される効果など
G29: 年に１度の定期演奏会。日頃の練習の成果を発揮するとともに、市民の方に音楽を楽しんでいただく。
B30: その他の | G30: 兵庫県、兵庫県教育委員会、神戸市民文化振興財団
B31: 後援（予定）
B32: 日時 | G32: 令和 | I32: 3 | J32: 年 | K32: 3 | L32: 月 | M32: 6 | N32: 日 | O32: （ | P32: 土 | R32: ） | S32: ～ | T32: 令和 | W32: 年 | Y32: 月 | AA32: 日 | AB32: （ | AE32: ）
J33: １４ | L33: 時 | M33: 00 | O33: 分 | S33: ～ | W33: １７ | Y33: 時 | Z33: 00 | AB33: 分
B34: 場所 | G34: 神戸文化ホール 中ホール
B35: 入場料等 | H35: 有料 | O35: 有料の | S35: 一般 | X35: 500 | AA35: 円
O36: 場 合 | S36: （ | T36: 他 | AA36: 円 | AB36: ）
B37: 賞 | G37: 賞 状 | K37: 無 | N37: （ | O37: 神戸市長賞 | V37: 枚 | W37: ）
G38: 楯 | K38: 無 | N38: （ | O38: 神戸市長賞 | V38: 枚 | W38: ）
B39: その他
B40: ＊神戸市教育長賞の申請については、様式３に別途記入してください。（賞状・楯の有無も別途記入）
Q42: 局長 | T42: 副局長 | W42: 課長 | Z42: 係長 | AC42: 係
