Workbook
Name _____________________________________________________________________kk29: #REF!
Name _____________________________________________________________________kk29: #REF!
Name ____________________________________________________________________kk29: #REF!
Name ____________________________________________________________________kk29: #REF!
Name ___________________________________________________________________kk29: #REF!
Name ___________________________________________________________________kk29: #REF!
Name __________________________________________________________________kk06: #REF!
Name __________________________________________________________________kk06: #REF!
Name __________________________________________________________________kk29: #REF!
Name __________________________________________________________________kk29: #REF!
Name _________________________________________________________________kk06: #REF!
Name _________________________________________________________________kk06: #REF!
Name _________________________________________________________________kk29: #REF!
Name _________________________________________________________________kk29: #REF!
Name ________________________________________________________________kk06: #REF!
Name ________________________________________________________________kk06: #REF!
Name ________________________________________________________________kk29: #REF!
Name ________________________________________________________________kk29: #REF!
Name _______________________________________________________________kk06: #REF!
Name _______________________________________________________________kk06: #REF!
Name _______________________________________________________________kk29: #REF!
Name _______________________________________________________________kk29: #REF!
Name ______________________________________________________________kk06: #REF!
Name ______________________________________________________________kk06: #REF!
Name ______________________________________________________________kk29: #REF!
Name ______________________________________________________________kk29: #REF!
Name _____________________________________________________________kk06: #REF!
Name _____________________________________________________________kk06: #REF!
Name _____________________________________________________________kk29: #REF!
Name _____________________________________________________________kk29: #REF!
Name ____________________________________________________________kk06: #REF!
Name ____________________________________________________________kk06: #REF!
Name ____________________________________________________________kk29: #REF!
Name ____________________________________________________________kk29: #REF!
Name ___________________________________________________________kk06: #REF!
Name ___________________________________________________________kk06: #REF!
Name ___________________________________________________________kk29: #REF!
Name ___________________________________________________________kk29: #REF!
Name __________________________________________________________kk06: #REF!
Name __________________________________________________________kk06: #REF!
Name __________________________________________________________kk29: #REF!
Name __________________________________________________________kk29: #REF!
Name _________________________________________________________kk06: #REF!
Name _________________________________________________________kk06: #REF!
Name _________________________________________________________kk29: #REF!
Name _________________________________________________________kk29: #REF!
Name ________________________________________________________kk06: #REF!
Name ________________________________________________________kk06: #REF!
Name ________________________________________________________kk29: #REF!
Name ________________________________________________________kk29: #REF!
Name _______________________________________________________kk06: #REF!
Name _______________________________________________________kk06: #REF!
Name _______________________________________________________kk29: #REF!
Name _______________________________________________________kk29: #REF!
Name ______________________________________________________kk06: #REF!
Name ______________________________________________________kk06: #REF!
Name ______________________________________________________kk29: #REF!
Name ______________________________________________________kk29: #REF!
Name _____________________________________________________kk06: #REF!
Name _____________________________________________________kk06: #REF!

Sheet 事前相談シート（新規指定）
A1: 事前相談シート（新規指定）
O2: 年 月 日
A3: 申請者(設置者) | B3: フリガナ
B4: 名称
B5: 主たる事務所の所在地 | D5: (郵便番号 | F5: - | I5: ）
B8: 連絡先 | D8: 電話番号 | E8: (内線)
D9: E-mailアドレス
B10: 法人等の種類
B11: 代表者の職名・氏名・生年月日 | D11: 職名 | G11: フリガナ | M11: 生年月日
G12: 氏名
B13: 代表者の住所 | D13: (郵便番号 | F13: - | I13: ）
A16: 事業所内容 | B16: フリガナ
B17: 名称
B18: 事業所(施設)の所在地 | D18: (郵便番号 | F18: - | I18: ）
B21: サービス種別① | G21: サービス種別②
B23: サービス種別③ | G23: サービス種別④
B25: 多機能（対象は〇） | G25: 共生型（対象は〇）※１
A27: 提出資料 | E27: 様式番号 | G27: 備考 | S27: チェック欄
B28: 指定申請書の別紙 | E28: 様式第一号別紙 | G28: 既に指定を受けている事業所がある場合は必要
B29: 指定通知書の写し | G29: 共生型の特例を受ける場合
B30: 付表 | E30: =データ!D15&IF(COUNTIF(データ!D15,データ!D16)=0,データ!D16,"")&IF(COUNTIF(データ!D15:D16,データ!D17)=0,データ!D17,"")&IF(COUNTIF(データ!D15:D17,データ!D18)=0,データ!D18,"")&IF(COUNTIF(データ!D15:D18,データ!D19)=0,データ!D19,"") | G30: サービスごとに必要な付表を提出
B31: 法人の登記事項証明書または条例等 | G31: 原本を提出
B32: 勤務形態一覧 | E32: 標準様式４ | G32: =IF(OR(D21="短期入所",D21="共同生活援助",D21="施設入所支援",K21="短期入所",K21="共同生活援助",K21="施設入所支援",D23="短期入所",D23="共同生活援助",D23="施設入所支援",K23="短期入所",K23="共同生活援助",K23="施設入所支援"),"標準様式４-２も提出","")&IF(AND(OR(D21="児童発達支援",D21="放課後等デイサービス",K21="児童発達支援",K21="放課後等デイサービス",D23="児童発達支援",D23="放課後等デイサービス",K23="児童発達支援",K23="放課後等デイサービス"),OR(D21="短期入所",D21="共同生活援助",D21="施設入所支援",K21="短期入所",K21="共同生活援助",K21="施設入所支援",D23="短期入所",D23="共同生活援助",D23="施設入所支援",K23="短期入所",K23="共同生活援助",K23="施設入所支援")),"、","")&IF(OR(D21="児童発達支援",D21="放課後等デイサービス",K21="児童発達支援",K21="放課後等デイサービス",D23="児童発達支援",D23="放課後等デイサービス",K23="児童発達支援",K23="放課後等デイサービス"),"標準様式４-３も提出","")
B33: 組織体制図 | E33: 参考様式２
B34: 経歴書 | E34: 参考様式３ | G34: 〈経歴書が必要な職種〉管理者、サービス提供責任者、サービス管理責任者、相談支援専門員、地域移行支援・地域定着支援に従事する者、児童発達支援管理責任者
B35: 資格証、研修修了証の写し
B36: 実務経験証明書 | E36: 参考様式５ | G36: 〈実務経験証明書が必要な職種〉居宅介護(重度)のｻｰﾋﾞｽ提供責任者(2級ﾍﾙﾊﾟｰのみ)、同行援護・行動援護のｻｰﾋﾞｽ提供責任者・ﾍﾙﾊﾟｰ、（管理者）、ｻｰﾋﾞｽ管理責任者、重度包括のｻｰﾋﾞｽ提供責任者、相談支援専門員、児童発達支援管理責任者、訪問支援員、（児童指導員）
B37: 平面図 | E37: 参考様式６
B38: 居室等面積一覧 | E38: 参考様式７ | G38: =IF(AND(K25="〇",OR(D21="居宅介護",D21="重度訪問介護",K21="居宅介護",K21="重度訪問介護",D23="居宅介護",D23="重度訪問介護",K23="居宅介護",K23="重度訪問介護")),"共生型居宅介護、共生型重度訪問介護は提出不要","")
B39: 設備・備品等一覧 | E39: 参考様式８ | G39: =IF(AND(K25="〇",OR(D21="居宅介護",D21="重度訪問介護",K21="居宅介護",K21="重度訪問介護",D23="居宅介護",D23="重度訪問介護",K23="居宅介護",K23="重度訪問介護")),"共生型居宅介護、共生型重度訪問介護は提出不要","")
B40: 事業計画書 | E40: 参考様式20 | G40: 添付資料のうち、事業実施動機は全てのサービスで事前相談で提出。該当のサービスについては、「就労移行支援、自立訓練の支援モデル」、「利用者作業内容詳細（手順）」も提出
B41: 収支予算書 | E41: 参考様式21
B42: 工賃収支予算書 | E42: 参考様式22
B43: 工賃収支の根拠資料
B44: 共同生活援助の体制 | E44: 神戸市添付資料８
B45: 体制状況一覧表 | E45: =データ!D29&IF(COUNTIF(データ!D29,データ!D30)=0,データ!D30,"")&IF(COUNTIF(データ!D29:D30,データ!D31)=0,データ!D31,"")&IF(COUNTIF(データ!D29:D31,データ!D32)=0,データ!D32,"") | F45: =IF('事前相談シート（新規指定）'!F42="","",VLOOKUP('事前相談シート（新規指定）'!F42,データ!C23:D49,2,0))
A46: 申請担当者氏名 | E46: 電話番号 | H46: E-mailアドレス
A47: ※１ | B47: 共生型サービスの対象は、居宅介護・重度訪問介護・生活介護・自立訓練・短期入所。赤字のうち、既に提出した書類の提出の省略が可能。

Sheet 事前相談シート（変更申請）
A1: 事前相談シート（変更申請）
O2: 年 月 日
A3: 申請者(設置者) | B3: フリガナ
B4: 名称
B5: 主たる事務所の所在地 | D5: (郵便番号 | F5: - | I5: ）
B8: 連絡先 | D8: 電話番号 | E8: (内線)
D9: E-mailアドレス
B10: 法人等の種類
B11: 代表者の職名・氏名・生年月日 | D11: 職名 | G11: フリガナ | M11: 生年月日
G12: 氏名
B13: 代表者の住所 | D13: (郵便番号 | F13: - | I13: ）
A16: 事業所内容 | B16: フリガナ
B17: 名称
B18: 事業所(施設)の所在地 | D18: (郵便番号 | F18: - | I18: ）
B21: サービス種別① | G21: サービス種別②
B23: サービス種別③ | G23: サービス種別④
B25: 多機能（対象は〇） | G25: 共生型（対象は〇）※１
A27: 提出資料 | E27: 様式番号 | G27: 備考※２ | S27: チェック欄
B28: 指定変更申請書の別紙 | E28: 様式第一号別紙 | G28: 既に指定を受けている事業所がある場合は必要
B29: 付表 | E29: =データ!D22&IF(COUNTIF(データ!D22,データ!D23)=0,データ!D23,"")&IF(COUNTIF(データ!D22:D23,データ!D24)=0,データ!D24,"")&IF(COUNTIF(データ!D22:D24,データ!D25)=0,データ!D25,"")&IF(COUNTIF(データ!D22:D25,データ!D26)=0,データ!D26,"") | G29: =IF(AND(OR(D21="児童発達支援",D21="放課後等デイサービス",K21="児童発達支援",K21="放課後等デイサービス",D23="児童発達支援",D23="放課後等デイサービス",K23="児童発達支援",K23="放課後等デイサービス"),D25="〇"),"サービスごとに必要な付表を提出 ※３","サービスごとに必要な付表を提出") -> サービスごとに必要な付表を提出
B30: 法人の登記事項証明書または条例等 | G30: 原本を提出
B31: 勤務形態一覧 | E31: 標準様式４ | G31: =IF(OR(D21="短期入所",D21="共同生活援助",D21="施設入所支援",K21="短期入所",K21="共同生活援助",K21="施設入所支援",D23="短期入所",D23="共同生活援助",D23="施設入所支援",K23="短期入所",K23="共同生活援助",K23="施設入所支援"),"標準様式４-２も提出","")&IF(AND(OR(D21="児童発達支援",D21="放課後等デイサービス",K21="児童発達支援",K21="放課後等デイサービス",D23="児童発達支援",D23="放課後等デイサービス",K23="児童発達支援",K23="放課後等デイサービス"),OR(D21="短期入所",D21="共同生活援助",D21="施設入所支援",K21="短期入所",K21="共同生活援助",K21="施設入所支援",D23="短期入所",D23="共同生活援助",D23="施設入所支援",K23="短期入所",K23="共同生活援助",K23="施設入所支援")),"、","")&IF(OR(D21="児童発達支援",D21="放課後等デイサービス",K21="児童発達支援",K21="放課後等デイサービス",D23="児童発達支援",D23="放課後等デイサービス",K23="児童発達支援",K23="放課後等デイサービス"),"標準様式４-３も提出","")
B32: 組織体制図 | E32: 参考様式２
B33: 経歴書 | E33: 参考様式３ | G33: 〈経歴書が必要な職種〉管理者、サービス提供責任者、サービス管理責任者、相談支援専門員、地域移行支援・地域定着支援に従事する者、児童発達支援管理責任者
B34: 資格証、研修修了証の写し
B35: 実務経験証明書 | E35: 参考様式５ | G35: 〈実務経験証明書が必要な職種〉居宅介護(重度)のｻｰﾋﾞｽ提供責任者(2級ﾍﾙﾊﾟｰのみ)、同行援護・行動援護のｻｰﾋﾞｽ提供責任者・ﾍﾙﾊﾟｰ、（管理者）、ｻｰﾋﾞｽ管理責任者、重度包括のｻｰﾋﾞｽ提供責任者、相談支援専門員、児童発達支援管理責任者、訪問支援員、（児童指導員）
B36: 平面図 | E36: 参考様式６
B37: 居室等面積一覧 | E37: 参考様式７ | G37: =IF(AND(K25="〇",OR(D21="居宅介護",D21="重度訪問介護",K21="居宅介護",K21="重度訪問介護",D23="居宅介護",D23="重度訪問介護",K23="居宅介護",K23="重度訪問介護")),"共生型居宅介護、共生型重度訪問介護は提出不要","")
B38: 設備・備品等一覧 | E38: 参考様式８ | G38: =IF(AND(K25="〇",OR(D21="居宅介護",D21="重度訪問介護",K21="居宅介護",K21="重度訪問介護",D23="居宅介護",D23="重度訪問介護",K23="居宅介護",K23="重度訪問介護")),"共生型居宅介護、共生型重度訪問介護は提出不要","")
B39: 事業計画書 | E39: 参考様式20 | G39: 添付資料のうち、事業実施動機は全てのサービスで事前相談で提出。該当のサービスについては、「就労移行支援、自立訓練の支援モデル」、「利用者作業内容詳細（手順）」も提出
B40: 収支予算書 | E40: 参考様式21
B41: 工賃収支予算書 | E41: 参考様式22
B42: 工賃収支の根拠資料
B43: 変更届 | E43: 様式第二号
B44: 体制状況一覧表 | E44: =データ!D35&IF(COUNTIF(データ!D35,データ!D36)=0,データ!D36,"")&IF(COUNTIF(データ!D35:D36,データ!D37)=0,データ!D37,"")&IF(COUNTIF(データ!D35:D37,データ!D38)=0,データ!D38,"") | F44: =IF('事前相談シート（新規指定）'!F41="","",VLOOKUP('事前相談シート（新規指定）'!F41,データ!C22:D48,2,0))
A45: 申請担当者氏名 | E45: 電話番号 | H45: E-mailアドレス
A46: ※１ | B46: 共生型サービスの対象は、居宅介護・重度訪問介護・生活介護・自立訓練・短期入所。赤字のうち、既に提出した書類の提出の省略が可能。
A47: ※２ | B47: 赤字の書類については、以前提出したものから変更がない場合には省略が可能。
A48: ※３ | B48: 障害児通所支援事業所において、以前に付表22、付表22その２を提出したものから変更がない場合は省略が可能。

Sheet データ
A1: 対象サービス（新規指定用） | D1: 対象サービス（変更申請用）
A2: 療養介護 | B2: 付表２ | D2: 生活介護 | E2: 付表３
A3: 生活介護 | B3: 付表３ | D3: 就労継続支援Ａ型 | E3: 付表９
A4: 短期入所 | B4: 付表４ | D4: 就労継続支援Ｂ型 | E4: 付表９
A5: 重度障害者等包括支援 | B5: 付表５ | D5: 児童発達支援 | E5: 付表１６
A6: 自立訓練(機能訓練) | B6: 付表６ | D6: 放課後等デイサービス | E6: 付表１６
A7: 自立訓練(生活訓練) | B7: 付表６ | D7: 指定障害児入所施設 | E7: 付表１９/２０
A8: 就労選択支援 | B8: 付表７
A9: 就労移行支援 | B9: 付表８
A10: 就労継続支援Ａ型 | B10: 付表９
A11: 就労継続支援Ｂ型 | B11: 付表９
A12: 就労定着支援 | B12: 付表１０
A13: 自立生活援助 | B13: 付表１１
A14: 共同生活援助 | B14: 付表１２ | D14: 補助式（新規指定用）
A15: 指定障害者支援施設(施設入所支援) | B15: 付表１３ | D15: =IF('事前相談シート（新規指定）'!D21="","",VLOOKUP('事前相談シート（新規指定）'!D21,データ!A2:B24,2,0))
A16: 地域移行支援 | B16: 付表１４ | D16: =IF('事前相談シート（新規指定）'!K21="","",VLOOKUP('事前相談シート（新規指定）'!K21,データ!A2:B24,2,0))
A17: 地域定着支援 | B17: 付表１４ | D17: =IF('事前相談シート（新規指定）'!D23="","",VLOOKUP('事前相談シート（新規指定）'!D23,データ!A2:B24,2,0))
A18: 指定特定相談支援事業所 | B18: 付表１５ | D18: =IF('事前相談シート（新規指定）'!K23="","",VLOOKUP('事前相談シート（新規指定）'!K23,データ!A2:B24,2,0))
A19: 児童発達支援 | B19: 付表１６ | D19: =IF('事前相談シート（新規指定）'!D25="〇","付表２２","")
A20: 放課後等デイサービス | B20: 付表１６
A21: 居宅訪問型児童発達支援 | B21: 付表１７ | D21: 補助式（変更申請用）
A22: 保育所等訪問支援 | B22: 付表１８ | D22: =IF('事前相談シート（変更申請）'!D21="","",VLOOKUP('事前相談シート（変更申請）'!D21,データ!A2:B24,2,0))
A23: 指定障害児入所施設 | B23: 付表１９/２０ | D23: =IF('事前相談シート（変更申請）'!K21="","",VLOOKUP('事前相談シート（変更申請）'!K21,データ!A2:B24,2,0)) | E23: =IF('事前相談シート（新規指定）'!E21="","",VLOOKUP('事前相談シート（新規指定）'!E21,データ!B2:C28,2,0))
A24: 指定障害児相談支援事業所 | B24: 付表１５ | D24: =IF('事前相談シート（変更申請）'!D23="","",VLOOKUP('事前相談シート（変更申請）'!D23,データ!A2:B24,2,0))
D25: =IF('事前相談シート（変更申請）'!K23="","",VLOOKUP('事前相談シート（変更申請）'!K23,データ!A2:B24,2,0))
A26: リスト用 | D26: =IF('事前相談シート（変更申請）'!D25="〇","付表２２","")
A27: 〇
D28: 補助式（新規指定用）
D29: =IF('事前相談シート（新規指定）'!D21="","",IF(OR('事前相談シート（新規指定）'!D21="児童発達支援",'事前相談シート（新規指定）'!D21="放課後等デイサービス",'事前相談シート（新規指定）'!D21="保育所等訪問支援",'事前相談シート（新規指定）'!D21="指定障害児入所施設",'事前相談シート（新規指定）'!D21="指定障害児相談支援事業所"),"様式第５号別紙1-2","様式第５号別紙1-1"))
D30: =IF('事前相談シート（新規指定）'!D23="","",IF(OR('事前相談シート（新規指定）'!D23="児童発達支援",'事前相談シート（新規指定）'!D23="放課後等デイサービス",'事前相談シート（新規指定）'!D23="保育所等訪問支援",'事前相談シート（新規指定）'!D23="指定障害児入所施設",'事前相談シート（新規指定）'!D23="指定障害児相談支援事業所"),"様式第５号別紙1-2","様式第５号別紙1-1"))
D31: =IF('事前相談シート（新規指定）'!K21="","",IF(OR('事前相談シート（新規指定）'!K21="児童発達支援",'事前相談シート（新規指定）'!K21="放課後等デイサービス",'事前相談シート（新規指定）'!K21="保育所等訪問支援",'事前相談シート（新規指定）'!K21="指定障害児入所施設",'事前相談シート（新規指定）'!K21="指定障害児相談支援事業所"),"様式第５号別紙1-2","様式第５号別紙1-1"))
D32: =IF('事前相談シート（新規指定）'!K23="","",IF(OR('事前相談シート（新規指定）'!K23="児童発達支援",'事前相談シート（新規指定）'!K23="放課後等デイサービス",'事前相談シート（新規指定）'!K23="保育所等訪問支援",'事前相談シート（新規指定）'!K23="指定障害児入所施設",'事前相談シート（新規指定）'!K23="指定障害児相談支援事業所"),"様式第５号別紙1-2","様式第５号別紙1-1"))
D34: 補助式（変更申請用）
D35: =IF('事前相談シート（変更申請）'!D21="","",IF(OR('事前相談シート（変更申請）'!D21="児童発達支援",'事前相談シート（変更申請）'!D21="放課後等デイサービス",'事前相談シート（変更申請）'!D21="保育所等訪問支援",'事前相談シート（変更申請）'!D21="指定障害児入所施設",'事前相談シート（変更申請）'!D21="指定障害児相談支援事業所"),"様式第５号別紙1-2","様式第５号別紙1-1"))
D36: =IF('事前相談シート（変更申請）'!D23="","",IF(OR('事前相談シート（変更申請）'!D23="児童発達支援",'事前相談シート（変更申請）'!D23="放課後等デイサービス",'事前相談シート（変更申請）'!D23="保育所等訪問支援",'事前相談シート（変更申請）'!D23="指定障害児入所施設",'事前相談シート（変更申請）'!D23="指定障害児相談支援事業所"),"様式第５号別紙1-2","様式第５号別紙1-1"))
D37: =IF('事前相談シート（変更申請）'!K23="","",IF(OR('事前相談シート（変更申請）'!K23="児童発達支援",'事前相談シート（変更申請）'!K23="放課後等デイサービス",'事前相談シート（変更申請）'!K23="保育所等訪問支援",'事前相談シート（変更申請）'!K23="指定障害児入所施設",'事前相談シート（変更申請）'!K23="指定障害児相談支援事業所"),"様式第５号別紙1-2","様式第５号別紙1-1"))
D38: =IF('事前相談シート（変更申請）'!K21="","",IF(OR('事前相談シート（変更申請）'!K21="児童発達支援",'事前相談シート（変更申請）'!K21="放課後等デイサービス",'事前相談シート（変更申請）'!K21="保育所等訪問支援",'事前相談シート（変更申請）'!K21="指定障害児入所施設",'事前相談シート（変更申請）'!K21="指定障害児相談支援事業所"),"様式第５号別紙1-2","様式第５号別紙1-1"))
